BEGIN:VCALENDAR
VERSION:2.0
PRODID:-//TYPO3/NONSGML News system (news)//EN
BEGIN:VEVENT
UID:news-81625@www.gard.fr
DTSTAMP:20260425T020001
DTSTART:20260425T100000
DTEND:20260426T170000
SUMMARY:10ème édition de la Fête de la BD « Gardons la Bulle »
CATEGORIES:Culture, Exposition, Alès
DESCRIPTION:Une vingtaine d'auteurs en dédicaces autour de nombreuses 
 animations et expositions ! Marraine de cette édition 
 anniversaire : Ariane ASTIER.
LOCATION:Médiathèque Alphonse Daudet
END:VEVENT
END:VCALENDAR