BEGIN:VCALENDAR
VERSION:2.0
PRODID:-//TYPO3/NONSGML News system (news)//EN
BEGIN:VEVENT
UID:news-78162@www.gard.fr
DTSTAMP:20260425T020001
DTSTART:20260425T100000
DTEND:20260426T180000
SUMMARY:De Ferme en Ferme 2026 -Le Jardin d'Alix
CATEGORIES:Distractions et loisirs, Initiation / découverte dans le cadre d'un événement, Vers-Pont-du-Gard
DESCRIPTION:Le temps d'un week-end, partez à la découverte de fermes 
 diversifiées, à la rencontre d'agricultrices et 
 d'agriculteurs passionnés et engagés. Visitez le Jardin 
 d'Alix : démonstration de repiquage, présentation de la 
 culture d'asperge et atelier ramassage
LOCATION:Le Jardin d'Alix
END:VEVENT
END:VCALENDAR