BEGIN:VCALENDAR
VERSION:2.0
PRODID:-//TYPO3/NONSGML News system (news)//EN
BEGIN:VEVENT
UID:news-78169@www.gard.fr
DTSTAMP:20260425T020001
DTSTART:20260425T100000
DTEND:20260426T180000
SUMMARY:De Ferme en Ferme 2026 - Le Jardin de Valentin
CATEGORIES:Distractions et loisirs, Initiation / découverte dans le cadre d'un événement, Castillon-du-Gard
DESCRIPTION:Le temps d'un week-end, partez à la découverte de fermes 
 diversifiées, à la rencontre d'agricultrices et 
 d'agriculteurs passionnés et engagés. Apiculture et 
 maraîchage au Jardin de Valentin, ouverture d'une ruche, 
 visite du jardin, concours d'épouvantails
LOCATION:Le Jardin de Valentin
END:VEVENT
END:VCALENDAR