BEGIN:VCALENDAR
VERSION:2.0
PRODID:-//TYPO3/NONSGML News system (news)//EN
BEGIN:VEVENT
UID:news-78167@www.gard.fr
DTSTAMP:20260425T020001
DTSTART:20260425T100000
DTEND:20260426T180000
SUMMARY:De Ferme en Ferme 2026 - Mas Cardelle
CATEGORIES:Distractions et loisirs, Initiation / découverte dans le cadre d'un événement, Aramon
DESCRIPTION:Le temps d'un week-end, partez à la découverte de fermes 
 diversifiées, à la rencontre d'agricultrices et 
 d'agriculteurs passionnés et engagés. Au Mas Cardelle, 
 c'est visite du moulin et dégustation d'huiles d'olives.
LOCATION:Moulin du Mas Cardelle
END:VEVENT
END:VCALENDAR