BEGIN:VCALENDAR
VERSION:2.0
PRODID:-//TYPO3/NONSGML News system (news)//EN
BEGIN:VEVENT
UID:news-84455@www.gard.fr
DTSTAMP:20260421T152906
DTSTART:20260425T110000
DTEND:20260426T180000
SUMMARY:Journées des Plantes et de la Nature
CATEGORIES:Anduze
DESCRIPTION:Le printemps s’invite à Anduze !
END:VEVENT
END:VCALENDAR