BEGIN:VCALENDAR
VERSION:2.0
PRODID:-//TYPO3/NONSGML News system (news)//EN
BEGIN:VEVENT
UID:news-77924@www.gard.fr
DTSTAMP:20260425T020001
DTSTART:20260425T100000
DTEND:20260426T180000
SUMMARY:Le Gard de ferme en ferme
CATEGORIES:Distractions et loisirs, Portes ouvertes, Quissac
DESCRIPTION: ! Au programme : visites guidées (dont certaines 
 autour de la thématique de l'alimentation), animations, 
 démonstrations, petite restauration à la ferme, stand de 
 vente de produits fermiers ...
END:VEVENT
END:VCALENDAR