BEGIN:VCALENDAR
VERSION:2.0
PRODID:-//TYPO3/NONSGML News system (news)//EN
BEGIN:VEVENT
UID:news-84929@www.gard.fr
DTSTAMP:20260423T144712
DTSTART:20260425T100000
DTEND:20260425T180000
SUMMARY:Lectures au jardin
CATEGORIES:Nîmes
DESCRIPTION:Venez rencontrer chaque livre et son histoire, au pied 
 d’un arbre, dans notre théâtre de verdure, le long 
 d’une allée fleurie. Des histoires inédites, contées 
 en tête à tête ou à un petit groupe, l’occasion 
 d’une offrande, d’un échange authentique.
END:VEVENT
END:VCALENDAR