BEGIN:VCALENDAR
VERSION:2.0
PRODID:-//TYPO3/NONSGML News system (news)//EN
BEGIN:VEVENT
UID:news-82145@www.gard.fr
DTSTAMP:20260425T020001
DTSTART:20260425T100000
DTEND:20260426T180000
SUMMARY:Musée de la Romanité : spectacles et ateliers autour des Journées Romaines de Nîmes
CATEGORIES:Culture, Spectacle, Initiation / découverte dans le cadre d'un événement, Nîmes
DESCRIPTION:Vivez aussi les Journées Romaines au jardin archéologique 
 du Musée de la Romanité ! Entre démonstrations, ateliers 
 et spectacles, plongez en famille dans une reconstitution 
 grandeur nature pour une immersion totale dans l'Antiquité.
LOCATION:Musée de la Romanité
END:VEVENT
END:VCALENDAR