BEGIN:VCALENDAR
VERSION:2.0
PRODID:-//TYPO3/NONSGML News system (news)//EN
BEGIN:VEVENT
UID:news-84830@www.gard.fr
DTSTAMP:20260425T020001
DTSTART:20260425T140000
DTEND:20260430T190000
SUMMARY:Vacances de Printemps avec l'Aphyllanthe
CATEGORIES:Distractions et loisirs, Spectacle, Visite guidée et/ou commentée, Initiation / découverte dans le cadre d'un événement, Aigaliers
DESCRIPTION:L'association l'Aphyllanthe d'Aigaliers a concocté tout un 
 programme pour les vacances de printemps. Des activités 
 variées qui plairont aux grands comme aux plus petits.
LOCATION:Bibliothèque
END:VEVENT
END:VCALENDAR